BEGIN:VCALENDAR
PRODID:-//Bright Horizons//EN
VERSION:2.0
BEGIN:VEVENT
SUMMARY;LANGUAGE=en-us:Summer Registration
CLASS:PUBLIC
CREATED:20260421T074832Z
DESCRIPTION:Join us for an action-packed summer! Rolling enrollment starts in February.
DTSTART:20260630T120000Z
DTEND:20260630T220000Z
SEQUENCE:0
UID:7377bb46-96cf-415d-9da4-56cb5ab20d2c
LOCATION:Bright Horizons at Mercer Island 9555 SE 36th Street Mercer Island, WA 98040
END:VEVENT
END:VCALENDAR
