BEGIN:VCALENDAR
PRODID:-//Bright Horizons//EN
VERSION:2.0
BEGIN:VEVENT
SUMMARY;LANGUAGE=en-us:Summer Registration
CLASS:PUBLIC
CREATED:20260421T104316Z
DESCRIPTION:Join us for an action-packed summer! Rolling enrollment starts in February.
DTSTART:20260608T093000Z
DTEND:20260608T210000Z
SEQUENCE:0
UID:55f8938a-36e2-4f76-8693-f9626302a7b9
LOCATION:Vita Kids Learning Center 1205 West Royal Lee DrivePalmyra, WI 53156
END:VEVENT
END:VCALENDAR
