BEGIN:VCALENDAR
PRODID:-//Bright Horizons//EN
VERSION:2.0
BEGIN:VEVENT
SUMMARY;LANGUAGE=en-us:Summer Camp
CLASS:PUBLIC
CREATED:20260421T232740Z
DESCRIPTION:Summer is for exploration &mdash; and Gettysburg&rsquo;s Growing Place is the place to do it.&nbsp;Action-packed days are full of fun, putting a seasonal spin on science, technology, creative arts, nature, and more.
DTSTART:20260601T130000Z
DTEND:20260807T210000Z
SEQUENCE:0
UID:72c1f622-2736-4800-a78b-fce9a06bebbd
LOCATION:Gettysburg's Growing Place  142 Constitution AvenueGettysburg, PA 17325
END:VEVENT
END:VCALENDAR
