BEGIN:VCALENDAR
PRODID:-//Bright Horizons//EN
VERSION:2.0
BEGIN:VEVENT
SUMMARY;LANGUAGE=en-us:Artsy Thursday
CLASS:PUBLIC
CREATED:20260421T091254Z
DESCRIPTION:Smocks on &ndash; let&rsquo;s get creative! Join us for fun family art activities.
DTSTART:20260416T200000Z
DTEND:20260416T220000Z
SEQUENCE:0
UID:d70a5ed6-22ad-4e44-8788-69985853103d
LOCATION:Early Childhood Education Center 200 West Medical Center BlvdWebster, TX 77598
END:VEVENT
END:VCALENDAR
