BEGIN:VCALENDAR
PRODID:-//Bright Horizons//EN
VERSION:2.0
BEGIN:VEVENT
SUMMARY;LANGUAGE=en-us:STEM Fest
CLASS:PUBLIC
CREATED:20260425T141714Z
DESCRIPTION:Join us for fun hands-on STEM activities and more &ndash; all are welcome!
DTSTART:20251106T210000Z
DTEND:20261106T230000Z
SEQUENCE:0
UID:cbc345cd-4b65-42b4-824b-f9b809666787
LOCATION:UAMS Child Development Center 1015 Jonesboro DriveLittle Rock, AR 72204
END:VEVENT
END:VCALENDAR
